Workbook
Name Toggle: Model!$H$234

Sheet Model
B2: Victoria Model
E4: Monthly Actuals | J4: Monthly Projections | AJ4: Annual Projections
E5: 44804 | F5: =EOMONTH(E5,1) -> 44834 | G5: =EOMONTH(F5,1) -> 44865 | H5: =EOMONTH(G5,1) -> 44895 | I5: =EOMONTH(H5,1) -> 44926 | J5: =EOMONTH(I5,1) -> 44957 | K5: =EOMONTH(J5,1) -> 44985 | L5: =EOMONTH(K5,1) -> 45016 | M5: =EOMONTH(L5,1) -> 45046 | ... AG5: =EOMONTH(AF5,1) -> 45657 | AJ5: 2023 | AK5: 2024 | AL5: 2025 | AM5: 2026 | AN5: 2027
B7: Sales team
B9: Salespeople - BoP | E9: 0 | F9: =E12 -> 0 | G9: =F12 -> 0 | H9: =G12 -> 0 | I9: =H12 -> 0 | J9: =I12 -> 0 | K9: =J12 -> 3 | L9: =K12 -> 3 | M9: =L12 -> 3 | ... AG9: =AF12 -> 14 | AJ9: =J9 -> 0 | AK9: =AJ12 -> 6 | AL9: =AK12 -> 14 | AM9: =AL12 -> 24 | AN9: =AM12 -> 38
B10: # of salespeople hired | E10: 0 | F10: 0 | G10: 0 | H10: 0 | I10: 0 | J10: 3 | K10: 0 | L10: 0 | M10: 0 | N10: 0 | O10: 3 | P10: 0 | Q10: 0 | R10: 0 | S10: 1 | T10: 0 | U10: 0 | V10: 3 | W10: 0 | X10: 0 | Y10: 2 | Z10: 0 | AA10: 0 | AB10: 3 | AC10: 0 | AD10: 0 | AE10: 2 | AF10: 0 | AG10: 0 | AJ10: =SUM(J10:U10) -> 7 | AK10: =SUM(V10:AG10) -> 10 | AL10: 12 | AM10: 18 | AN10: 30
B11: # of salespeople departed | E11: 0 | F11: 0 | G11: 0 | H11: 0 | I11: 0 | J11: 0 | K11: 0 | L11: 0 | M11: 0 | N11: 0 | O11: 1 | P11: 0 | Q11: 0 | R11: 0 | S11: 0 | T11: 0 | U11: 0 | V11: 1 | W11: 0 | X11: 0 | Y11: 0 | Z11: 0 | AA11: 0 | AB11: 1 | AC11: 0 | AD11: 0 | AE11: 0 | AF11: 0 | AG11: 0 | AJ11: =SUM(J11:U11) -> 1 | AK11: =SUM(V11:AG11) -> 2 | AL11: 2 | AM11: 4 | AN11: 4
B12: Salespeople EoP | E12: =E9+E10-E11 -> 0 | F12: =F9+F10-F11 -> 0 | G12: =G9+G10-G11 -> 0 | H12: =H9+H10-H11 -> 0 | I12: =I9+I10-I11 -> 0 | J12: =J9+J10-J11 -> 3 | K12: =K9+K10-K11 -> 3 | L12: =L9+L10-L11 -> 3 | ... AG12: =AG9+AG10-AG11 -> 14 | AJ12: =AJ9+AJ10-AJ11 -> 6 | AK12: =AK9+AK10-AK11 -> 14 | AL12: =AL9+AL10-AL11 -> 24 | AM12: =AM9+AM10-AM11 -> 38 | AN12: =AN9+AN10-AN11 -> 64
B14: Productive salespeople | E14: 0 | F14: 0 | G14: 0 | H14: 0 | I14: 0 | J14: =MAX(J12-SUM(H10:J10),0) -> 0 | K14: =MAX(K12-SUM(I10:K10),0) -> 0 | L14: =MAX(L12-SUM(J10:L10),0) -> 0 | M14: =MAX(M12-SUM(K10:M10),0) -> 3 | N14: =MAX(N12-SUM(L10:N10),0) -> 3 | O14: =MAX(O12-SUM(M10:O10),0) -> 2 | P14: =MAX(P12-SUM(N10:P10),0) -> 2 | Q14: =MAX(Q12-SUM(O10:Q10),0) -> 2 | ... AG14: =MAX(AG12-SUM(AE10:AG10),0) -> 12 | AJ14: =AVERAGE(J14:U14) -> 2.6666667 | AK14: =AVERAGE(V14:AG14) -> 8.5 | AL14: =MAX(AL9+(AL10*1/4*75%+AL10*1/4*50%+AL10*1/4*25%+AL10*1/4*0%)-(AL11/2),0) -> 17.5 | AM14: =MAX(AM9+(AM10*1/4*75%+AM10*1/4*50%+AM10*1/4*25%+AM10*1/4*0%)-(AM11/2),0) -> 28.75 | AN14: =MAX(AN9+(AN10*1/4*75%+AN10*1/4*50%+AN10*1/4*25%+AN10*1/4*0%)-(AN11/2),0) -> 47.25
B15: Units sold per salesperson | E15: 0 | F15: 0 | G15: 0 | H15: 0 | I15: 0 | J15: 100 | K15: =J15 -> 100 | L15: =K15 -> 100 | M15: =L15 -> 100 | N15: =M15 -> 100 | O15: =N15 -> 100 | P15: =O15 -> 100 | Q15: =P15 -> 100 | R15: =Q15 -> 100 | ... U15: =T15 -> 100 | V15: 100 | W15: =V15 -> 100 | X15: =W15 -> 100 | Y15: =X15 -> 100 | Z15: =Y15 -> 100 | AA15: =Z15 -> 100 | AB15: =AA15 -> 100 | AC15: =AB15 -> 100 | AD15: =AC15 -> 100 | ... AG15: =AF15 -> 100 | AJ15: =SUM(J15:U15) -> 1200 | AK15: =SUM(V15:AG15) -> 1200 | AL15: =AK15*1.3 -> 1560 | AM15: =AL15*1.3 -> 2028 | AN15: =AM15*1.3 -> 2636.4
B16: Maximum demand | E16: =E14*E15 -> 0 | F16: =F14*F15 -> 0 | G16: =G14*G15 -> 0 | H16: =H14*H15 -> 0 | I16: =I14*I15 -> 0 | J16: =J14*J15 -> 0 | K16: =K14*K15 -> 0 | L16: =L14*L15 -> 0 | ... AG16: =AG14*AG15 -> 1200 | AJ16: =SUM(J16:U16) -> 3200 | AK16: =SUM(V16:AG16) -> 10200 | AL16: =AL14*AL15 -> 27300 | AM16: =AM14*AM15 -> 58305 | AN16: =AN14*AN15 -> 124569.9
B18: Production plan
B20: Production plan - Finished Goods (units) | E20: 0 | F20: 0 | G20: 0 | H20: 0 | I20: 0 | J20: 0 | K20: 500 | L20: 0 | M20: 1000 | P20: 1000 | S20: 1500 | V20: 2000 | Y20: 2500 | AB20: 3000 | AE20: 3000 | AJ20: =SUM(J20:U20) -> 4000 | AK20: =SUM(V20:AG20) -> 10500 | AL20: =+AL30 -> 28191.693 | AM20: =+AM30 -> 59455.892 | AN20: =+AN30 -> 126328.25
B21: Units produced | E21: 0 | F21: 0 | G21: 0 | H21: 0 | I21: 0 | J21: =+J20 -> 0 | K21: =+K20 -> 500 | L21: =+L20 -> 0 | M21: =+M20 -> 1000 | N21: =+N20 | O21: =+O20 | P21: =+P20 -> 1000 | Q21: =+Q20 | ... AG21: =+AG20 | AJ21: =SUM(J21:U21) -> 4000 | AK21: =SUM(V21:AG21) -> 10500 | AL21: =+AL20 -> 28191.693 | AM21: =+AM20 -> 59455.892 | AN21: =+AN20 -> 126328.25
B23: Units available for sale | J23: =+J28 -> 0 | K23: =+K28 -> 0 | L23: =+L28 -> 500 | M23: =+M28 -> 500 | N23: =+N28 -> 1200 | O23: =+O28 -> 900 | P23: =+P28 -> 700 | Q23: =+Q28 -> 1500 | ... AG23: =+AG28 -> 2300
B24: % allowance for diff. sizes etc. | J24: 0.1 | K24: =+J24 -> 0.1 | L24: =+K24 -> 0.1 | M24: =+L24 -> 0.1 | N24: =+M24 -> 0.1 | O24: =+N24 -> 0.1 | P24: =+O24 -> 0.1 | Q24: =+P24 -> 0.1 | R24: =+Q24 -> 0.1 | ... U24: =+T24 -> 0.1 | V24: 0.1 | W24: =+V24 -> 0.1 | X24: =+W24 -> 0.1 | Y24: =+X24 -> 0.1 | Z24: =+Y24 -> 0.1 | AA24: =+Z24 -> 0.1 | AB24: =+AA24 -> 0.1 | AC24: =+AB24 -> 0.1 | AD24: =+AC24 -> 0.1 | ... AG24: =+AF24 -> 0.1
B25: Maximum demand | J25: =+J16 -> 0 | K25: =+K16 -> 0 | L25: =+L16 -> 0 | M25: =+M16 -> 300 | N25: =+N16 -> 300 | O25: =+O16 -> 200 | P25: =+P16 -> 200 | Q25: =+Q16 -> 200 | ... AG25: =+AG16 -> 1200 | AJ25: =SUM(J25:U25) -> 3200 | AK25: =SUM(V25:AG25) -> 10200 | AL25: =+AL16 -> 27300 | AM25: =+AM16 -> 58305 | AN25: =+AN16 -> 124569.9
B26: Units sold | J26: =+MIN(J23*(1-J24),J25) -> 0 | K26: =+MIN(K23*(1-K24),K25) -> 0 | L26: =+MIN(L23*(1-L24),L25) -> 0 | M26: =+MIN(M23*(1-M24),M25) -> 300 | N26: =+MIN(N23*(1-N24),N25) -> 300 | O26: =+MIN(O23*(1-O24),O25) -> 200 | P26: =+MIN(P23*(1-P24),P25) -> 200 | Q26: =+MIN(Q23*(1-Q24),Q25) -> 200 | ... AG26: =+MIN(AG23*(1-AG24),AG25) -> 1200 | AJ26: =SUM(J26:U26) -> 3200 | AK26: =SUM(V26:AG26) -> 10200 | AL26: =+AL25 -> 27300 | AM26: =+AM25 -> 58305 | AN26: =+AN25 -> 124569.9
B28: Inventory - Finished Goods (units) - BoP | E28: 0 | F28: =E31 -> 0 | G28: =F31 -> 0 | H28: =G31 -> 0 | I28: =H31 -> 0 | J28: =I31 -> 0 | K28: =J31 -> 0 | L28: =K31 -> 500 | M28: =L31 -> 500 | ... AG28: =AF31 -> 2300 | AJ28: =J28 -> 0 | AK28: =AJ31 -> 800 | AL28: =AK31 -> 1100 | AM28: =AL31 -> 1991.6934 | AN28: =AM31 -> 3142.5853
B29: Units sold | E29: =+E16 -> 0 | F29: =+F16 -> 0 | G29: =+G16 -> 0 | H29: =+H16 -> 0 | I29: =+I16 -> 0 | J29: =+J26 -> 0 | K29: =+K26 -> 0 | L29: =+L26 -> 0 | M29: =+M26 -> 300 | N29: =+N26 -> 300 | O29: =+O26 -> 200 | P29: =+P26 -> 200 | Q29: =+Q26 -> 200 | ... AG29: =+AG26 -> 1200 | AJ29: =+AJ26 -> 3200 | AK29: =+AK26 -> 10200 | AL29: =+AL26 -> 27300 | AM29: =+AM26 -> 58305 | AN29: =+AN26 -> 124569.9
B30: Units produced | E30: 0 | F30: 0 | G30: 0 | H30: =+H71 -> 0 | I30: =+I71 -> 0 | J30: =+J21 -> 0 | K30: =+K21 -> 500 | L30: =+L21 -> 0 | M30: =+M21 -> 1000 | N30: =+N21 | O30: =+O21 | P30: =+P21 -> 1000 | Q30: =+Q21 | ... AG30: =+AG21 | AJ30: =+AJ21 -> 4000 | AK30: =+AK21 -> 10500 | AL30: =+AL29+AL31-AL28 -> 28191.693 | AM30: =+AM29+AM31-AM28 -> 59455.892 | AN30: =+AN29+AN31-AN28 -> 126328.25
B31: Inventory - Finished Goods (units) - EoP | E31: =E28+E30-E29 -> 0 | F31: =F28+F30-F29 -> 0 | G31: =G28+G30-G29 -> 0 | H31: =H28+H30-H29 -> 0 | I31: =I28+I30-I29 -> 0 | J31: =J28+J30-J29 -> 0 | K31: =K28+K30-K29 -> 500 | L31: =L28+L30-L29 -> 500 | ... AG31: =AG28+AG30-AG29 -> 1100 | AJ31: =AJ28+AJ30-AJ29 -> 800 | AK31: =AK28+AK30-AK29 -> 1100 | AL31: =+AK31*(1+AL115/2) -> 1991.6934 | AM31: =+AL31*(1+AM115/2) -> 3142.5853 | AN31: =+AM31*(1+AN115/2) -> 4900.9318
B33: Subscriptions
B35: Monthly churn | E35: 0 | F35: 0 | G35: 0 | H35: 0 | I35: 0 | J35: 0.1 | K35: =J35 -> 0.1 | L35: =K35 -> 0.1 | M35: =L35 -> 0.1 | N35: =M35 -> 0.1 | O35: =N35 -> 0.1 | P35: =O35 -> 0.1 | Q35: =P35 -> 0.1 | R35: =Q35 -> 0.1 | ... U35: =T35 -> 0.1 | V35: 0.1 | W35: =V35 -> 0.1 | X35: =W35 -> 0.1 | Y35: =X35 -> 0.1 | Z35: =Y35 -> 0.1 | AA35: =Z35 -> 0.1 | AB35: =AA35 -> 0.1 | AC35: =AB35 -> 0.1 | AD35: =AC35 -> 0.1 | ... AG35: =AF35 -> 0.1 | AJ35: =AVERAGE(J35:U35) -> 0.1 | AK35: =AVERAGE(V35:AG35) -> 0.1 | AL35: 0.15 | AM35: 0.15 | AN35: 0.15
B37: Active units BoP | E37: 0 | F37: =E40 -> 0 | G37: =F40 -> 0 | H37: =G40 -> 0 | I37: =H40 -> 0 | J37: =I40 -> 0 | K37: =J40 -> 0 | L37: =K40 -> 0 | M37: =L40 -> 0 | ... AG37: =AF40 -> 6855.7996 | AJ37: =J37 -> 0 | AK37: =AJ40 -> 2347.7354 | AL37: =AK40 -> 7370.2197 | AM37: =AL40 -> 16243.455 | AN37: =AM40 -> 32423.37
B38: =+B29 -> Units sold | E38: 0 | F38: 0 | G38: 0 | H38: 0 | I38: 0 | J38: =J29 -> 0 | K38: =K29 -> 0 | L38: =L29 -> 0 | M38: =M29 -> 300 | N38: =N29 -> 300 | O38: =O29 -> 200 | P38: =P29 -> 200 | Q38: =Q29 -> 200 | ... AG38: =AG29 -> 1200 | AJ38: =SUM(J38:U38) -> 3200 | AK38: =SUM(V38:AG38) -> 10200 | AL38: =AL29 -> 27300 | AM38: =AM29 -> 58305 | AN38: =AN29 -> 124569.9
B39: Churn | E39: 0 | F39: 0 | G39: 0 | H39: 0 | I39: 0 | J39: =J37*J35 -> 0 | K39: =K37*K35 -> 0 | L39: =L37*L35 -> 0 | M39: =M37*M35 -> 0 | N39: =N37*N35 -> 30 | O39: =O37*O35 -> 57 | P39: =P37*P35 -> 71.3 | Q39: =Q37*Q35 -> 84.17 | ... AG39: =AG37*AG35 -> 685.57996 | AJ39: =SUM(J39:U39) -> 852.26457 | AK39: =SUM(V39:AG39) -> 5177.5158 | AL39: =+'Churn Year 3-5'!S10 -> 18426.764 | AM39: =+'Churn Year 3-5'!S19 -> 42125.085 | AN39: =+'Churn Year 3-5'!S28 -> 84775.781
B40: Active units EoP | E40: =E37+E38-E39 -> 0 | F40: =F37+F38-F39 -> 0 | G40: =G37+G38-G39 -> 0 | H40: =H37+H38-H39 -> 0 | I40: =I37+I38-I39 -> 0 | J40: =J37+J38-J39 -> 0 | K40: =K37+K38-K39 -> 0 | L40: =L37+L38-L39 -> 0 | ... AG40: =AG37+AG38-AG39 -> 7370.2197 | AJ40: =AJ37+AJ38-AJ39 -> 2347.7354 | AK40: =AK37+AK38-AK39 -> 7370.2197 | AL40: =AL37+AL38-AL39 -> 16243.455 | AM40: =AM37+AM38-AM39 -> 32423.37 | AN40: =AN37+AN38-AN39 -> 72217.49
B42: KPIs + Financing
B44: =+B38 -> Units sold | E44: =+E38 -> 0 | F44: =+F38 -> 0 | G44: =+G38 -> 0 | H44: =+H38 -> 0 | I44: =+I38 -> 0 | J44: =+J38 -> 0 | K44: =+K38 -> 0 | L44: =+L38 -> 0 | ... AG44: =+AG38 -> 1200 | AJ44: =+AJ38 -> 3200 | AK44: =+AK38 -> 10200 | AL44: =+AL38 -> 27300 | AM44: =+AM38 -> 58305 | AN44: =+AN38 -> 124569.9
B45: Cumulative # units sold | E45: =E44 -> 0 | F45: =E45+F44 -> 0 | G45: =F45+G44 -> 0 | H45: =G45+H44 -> 0 | I45: =H45+I44 -> 0 | J45: =I45+J44 -> 0 | K45: =J45+K44 -> 0 | L45: =K45+L44 -> 0 | M45: =L45+M44 -> 300 | ... AG45: =AF45+AG44 -> 13400 | AJ45: =U45 -> 3200 | AK45: =AG45 -> 13400 | AL45: =AK45+AL44 -> 40700 | AM45: =AL45+AM44 -> 99005 | AN45: =AM45+AN44 -> 223574.9
B47: =+B40 -> Active units EoP | E47: =+E40 -> 0 | F47: =+F40 -> 0 | G47: =+G40 -> 0 | H47: =+H40 -> 0 | I47: =+I40 -> 0 | J47: =+J40 -> 0 | K47: =+K40 -> 0 | L47: =+L40 -> 0 | ... AG47: =+AG40 -> 7370.2197 | AJ47: =+AJ40 -> 2347.7354 | AK47: =+AK40 -> 7370.2197 | AL47: =+AL40 -> 16243.455 | AM47: =+AM40 -> 32423.37 | AN47: =+AN40 -> 72217.49
B48: # of units active for 3+ months | E48: 0 | F48: 0 | G48: 0 | H48: 0 | I48: 0 | J48: =G40*(1-J35)*(1-I35)*(1-H35) -> 0 | K48: =H40*(1-K35)*(1-J35)*(1-I35) -> 0 | L48: =I40*(1-L35)*(1-K35)*(1-J35) -> 0 | M48: =J40*(1-M35)*(1-L35)*(1-K35) -> 0 | N48: =K40*(1-N35)*(1-M35)*(1-L35) -> 0 | O48: =L40*(1-O35)*(1-N35)*(1-M35) -> 0 | P48: =M40*(1-P35)*(1-O35)*(1-N35) -> 218.7 | Q48: =N40*(1-Q35)*(1-P35)*(1-O35) -> 415.53 | ... AG48: =AD40*(1-AG35)*(1-AF35)*(1-AE35) -> 4118.2197 | AJ48: =U48 -> 992.73543 | AK48: =AG48 -> 4118.2197 | AL48: =+'Churn Year 3-5'!O11*(1-'Churn Year 3-5'!C10)^3 -> 7746.6125 | AM48: =+'Churn Year 3-5'!O20*(1-'Churn Year 3-5'!C19)^3 -> 17191.219 | AN48: =+'Churn Year 3-5'!O29*(1-'Churn Year 3-5'!C28)^3 -> 35641.846
B50: =+B114 -> Total revenue ($000) | E50: =+E114 -> 0 | F50: =+F114 -> 0 | G50: =+G114 -> 0 | H50: =+H114 -> 0 | I50: =+I114 -> 0 | J50: =+J114 -> 0 | K50: =+K114 -> 0 | L50: =+L114 -> 0 | ... AG50: =+AG114 -> 586.69514 | AJ50: =+AJ114 -> 1425.4477 | AK50: =+AK114 -> 4894.296 | AL50: =+AL114 -> 12829.226 | AM50: =+AM114 -> 27655.858 | AN50: =+AN114 -> 58603.994
B52: =+B220 -> Free cash flow ($000) | E52: =+E220 -> -208.33333 | F52: =+F220 -> -194.83333 | G52: =+G220 -> -205.70833 | H52: =+H220 -> -217.70833 | I52: =+I220 -> -223.70833 | J52: =+J220 -> -406.68187 | K52: =+K220 -> -465.29272 | L52: =+L220 -> -528.89075 | ... AG52: =+AG220 -> -478.30217 | AJ52: =+AJ220 -> -4994.3029 | AK52: =+AK220 -> -6040.7104 | AL52: =+AL220 -> -6890.7513 | AM52: =+AM220 -> -7579.3203 | AN52: =+AN220 -> -366.81247
B53: Fundraising ($000) Series A | L53: 0 | AJ53: =SUM(J53:U53) -> 0 | AK53: =SUM(V53:AG53) -> 0
B54: Fundraising ($000) Series B | E54: 0 | F54: 0 | G54: 0 | H54: 0 | I54: 0 | J54: 0 | K54: 0 | M54: 0 | N54: 0 | O54: 0 | P54: 0 | Q54: 0 | R54: 0 | S54: 0 | T54: 0 | V54: 0 | W54: 0 | X54: 0 | Y54: 0 | Z54: 0 | AA54: 0 | AB54: 0 | AC54: 0 | AD54: 0 | AE54: 0 | AG54: 0 | AJ54: =SUM(J54:U54) -> 0 | AK54: =SUM(V54:AG54) -> 0 | AL54: 0 | AM54: 0 | AN54: 0
B55: =+B223 -> Cash balance - EoP ($000) | E55: =+E223 -> 2791.6667 | F55: =+F223 -> 2596.8333 | G55: =+G223 -> 2391.125 | H55: =+H223 -> 2173.4167 | I55: =+I223 -> 1949.7083 | J55: =+J223 -> 1543.0265 | K55: =+K223 -> 1077.7337 | L55: =+L223 -> 548.84299 | ... AG55: =+AG223 -> -9085.305 | AJ55: =+AJ223 -> -3044.5946 | AK55: =+AK223 -> -9085.305 | AL55: =+AL223 -> -15976.056 | AM55: =+AM223 -> -23555.377 | AN55: =+AN223 -> -23922.189
E56: =+E5 -> 44804 | F56: =+F5 -> 44834 | G56: =+G5 -> 44865 | H56: =+H5 -> 44895 | I56: =+I5 -> 44926 | J56: =+J5 -> 44957 | K56: =+K5 -> 44985 | L56: =+L5 -> 45016 | ... AG56: =+AG5 -> 45657 | AJ56: =+AJ5 -> 2023 | AK56: =+AK5 -> 2024 | AL56: =+AL5 -> 2025 | AM56: =+AM5 -> 2026 | AN56: =+AN5 -> 2027
B57: Inventory
...

Sheet Churn Year 3-5
B2: Churn Projections Year 3-5
F4: December prior year | G4: January | H4: February | I4: March | J4: April | K4: May | L4: June | M4: July | N4: August | O4: September | P4: October | Q4: November | R4: December | S4: Annual | T4: Monthly Average
B6: Year 3
E8: =+Model!B37 -> Active units BoP | F8: =+Model!AG37 -> 6855.7996 | G8: =+F11 -> 7370.2197 | H8: =+G11 -> 7578.8883 | I8: =+H11 -> 7881.3264 | J8: =+I11 -> 8275.3713 | K8: =+J11 -> 8760.3174 | L8: =+K11 -> 9336.8053 | M8: =+L11 -> 10006.738 | N8: =+M11 -> 10773.222 | ... R8: =+Q11 -> 14907.222 | S8: =+F11 -> 7370.2197 | T8: =+AVERAGE(G8:R8) -> 10237.091
B9: MoM growth rate new customers | C9: =+RATE(12,-F9,0,S9,1) -> 0.095167939 | E9: =+Model!B38 -> Units sold | F9: =+Model!AG38 -> 1200 | G9: =+F9*(1+$C9) -> 1314.2015 | H9: =+G9*(1+$C9) -> 1439.2714 | I9: =+H9*(1+$C9) -> 1576.2439 | J9: =+I9*(1+$C9) -> 1726.2518 | K9: =+J9*(1+$C9) -> 1890.5356 | L9: =+K9*(1+$C9) -> 2070.4539 | M9: =+L9*(1+$C9) -> 2267.4948 | N9: =+M9*(1+$C9) -> 2483.2876 | ... R9: =+Q9*(1+$C9) -> 3572.3163 | S9: =+Model!AL29 -> 27300 | T9: =+AVERAGE(G9:R9) -> 2275
B10: Churn rate | C10: =+Model!AL35 -> 0.15 | E10: =+Model!B39 -> Churn | F10: =+Model!AG39 -> 685.57996 | G10: =+$C10*G8 -> 1105.533 | H10: =+$C10*H8 -> 1136.8332 | I10: =+$C10*I8 -> 1182.199 | J10: =+$C10*J8 -> 1241.3057 | K10: =+$C10*K8 -> 1314.0476 | L10: =+$C10*L8 -> 1400.5208 | M10: =+$C10*M8 -> 1501.0108 | N10: =+$C10*N8 -> 1615.9834 | ... R10: =+$C10*R8 -> 2236.0834 | S10: =+SUM(G10:R10) -> 18426.764 | T10: =+AVERAGE(G10:R10) -> 1535.5637
E11: =+Model!B40 -> Active units EoP | F11: =+F8+F9-F10 -> 7370.2197 | G11: =+G8+G9-G10 -> 7578.8883 | H11: =+H8+H9-H10 -> 7881.3264 | I11: =+I8+I9-I10 -> 8275.3713 | J11: =+J8+J9-J10 -> 8760.3174 | K11: =+K8+K9-K10 -> 9336.8053 | L11: =+L8+L9-L10 -> 10006.738 | M11: =+M8+M9-M10 -> 10773.222 | ... S11: =+S8+S9-S10 -> 16243.455 | T11: =+AVERAGE(G11:R11) -> 10976.528
E13: Average active units | F13: =AVERAGE(F8,F11) -> 7113.0097 | G13: =AVERAGE(G8,G11) -> 7474.554 | H13: =AVERAGE(H8,H11) -> 7730.1073 | I13: =AVERAGE(I8,I11) -> 8078.3489 | J13: =AVERAGE(J8,J11) -> 8517.8443 | K13: =AVERAGE(K8,K11) -> 9048.5613 | L13: =AVERAGE(L8,L11) -> 9671.7719 | M13: =AVERAGE(M8,M11) -> 10389.98 | ... R13: =AVERAGE(R8,R11) -> 15575.339 | S13: =+AVERAGE(G13:R13) -> 10606.809 | T13: =+AVERAGE(G13:R13) -> 10606.809
B15: Year 4
E17: =+E8 -> Active units BoP | F17: =+R8 -> 14907.222 | G17: =+F20 -> 16243.455 | H17: =+G20 -> 17545.289 | I17: =+H20 -> 18825.601 | J17: =+I20 -> 20095.695 | K17: =+J20 -> 21365.555 | L17: =+K20 -> 22644.06 | M17: =+L20 -> 23939.168 | N17: =+M20 -> 25258.074 | ... R17: =+Q20 -> 30895.863 | S17: =+G17 -> 16243.455 | T17: =+AVERAGE(G17:R17) -> 23402.825
B18: MoM growth rate new customers | C18: =+RATE(12,-F18,0,S18,1) -> 0.046478523 | E18: =+E9 -> Units sold | F18: =+R9 -> 3572.3163 | G18: =+F18*(1+$C18) -> 3738.3523 | H18: =+G18*(1+$C18) -> 3912.1054 | I18: =+H18*(1+$C18) -> 4093.9342 | J18: =+I18*(1+$C18) -> 4284.2143 | K18: =+J18*(1+$C18) -> 4483.3382 | L18: =+K18*(1+$C18) -> 4691.7171 | M18: =+L18*(1+$C18) -> 4909.7812 | N18: =+M18*(1+$C18) -> 5137.9806 | ... R18: =+Q18*(1+$C18) -> 6161.8871 | S18: =+Model!AM29 -> 58305 | T18: =+AVERAGE(G18:R18) -> 4858.75
B19: Churn rate | C19: =+Model!AM35 -> 0.15 | E19: =+E10 -> Churn | F19: =+R10 -> 2236.0834 | G19: =+$C19*G17 -> 2436.5183 | H19: =+$C19*H17 -> 2631.7934 | I19: =+$C19*I17 -> 2823.8402 | J19: =+$C19*J17 -> 3014.3543 | K19: =+$C19*K17 -> 3204.8333 | L19: =+$C19*L17 -> 3396.609 | M19: =+$C19*M17 -> 3590.8753 | N19: =+$C19*N17 -> 3788.7111 | ... R19: =+$C19*R17 -> 4634.3794 | S19: =+SUM(G19:R19) -> 42125.085 | T19: =+AVERAGE(G19:R19) -> 3510.4238
E20: =+E11 -> Active units EoP | F20: =+R11 -> 16243.455 | G20: =+G17+G18-G19 -> 17545.289 | H20: =+H17+H18-H19 -> 18825.601 | I20: =+I17+I18-I19 -> 20095.695 | J20: =+J17+J18-J19 -> 21365.555 | K20: =+K17+K18-K19 -> 22644.06 | L20: =+L17+L18-L19 -> 23939.168 | M20: =+M17+M18-M19 -> 25258.074 | N20: =+N17+N18-N19 -> 26607.344 | ... S20: =+S17+S18-S19 -> 32423.37 | T20: =+AVERAGE(G20:R20) -> 24751.151
E22: Average active units | F22: =AVERAGE(F17,F20) -> 15575.339 | G22: =AVERAGE(G17,G20) -> 16894.372 | H22: =AVERAGE(H17,H20) -> 18185.445 | I22: =AVERAGE(I17,I20) -> 19460.648 | J22: =AVERAGE(J17,J20) -> 20730.625 | K22: =AVERAGE(K17,K20) -> 22004.808 | L22: =AVERAGE(L17,L20) -> 23291.614 | M22: =AVERAGE(M17,M20) -> 24598.621 | ... R22: =AVERAGE(R17,R20) -> 31659.616 | S22: =+AVERAGE(G22:R22) -> 24076.988 | T22: =+AVERAGE(G22:R22) -> 24076.988
B24: Year 5
E26: =+E17 -> Active units BoP | F26: =+R17 -> 30895.863 | G26: =+F29 -> 32423.37 | H26: =+G29 -> 34202.373 | I26: =+H29 -> 36232.634 | J26: =+I29 -> 38516.877 | K26: =+J29 -> 41060.569 | L26: =+K29 -> 43871.754 | M26: =+L29 -> 46960.933 | N26: =+M29 -> 50340.981 | ... R26: =+Q29 -> 67108.592 | S26: =+G26 -> 32423.37 | T26: =+AVERAGE(G26:R26) -> 47097.656
B27: MoM growth rate new customers | C27: =+RATE(12,-F27,0,S27,1) -> 0.077999 | E27: =+E18 -> Units sold | F27: =+R18 -> 6161.8871 | G27: =+F27*(1+$C27) -> 6642.5082 | H27: =+G27*(1+$C27) -> 7160.6172 | I27: =+H27*(1+$C27) -> 7719.1381 | J27: =+I27*(1+$C27) -> 8321.2232 | K27: =+J27*(1+$C27) -> 8970.2703 | L27: =+K27*(1+$C27) -> 9669.9424 | M27: =+L27*(1+$C27) -> 10424.188 | N27: =+M27*(1+$C27) -> 11237.265 | ... R27: =+Q27*(1+$C27) -> 15175.186 | S27: =+Model!AN29 -> 124569.9 | T27: =+AVERAGE(G27:R27) -> 10380.825
B28: Churn rate | C28: =+Model!AN35 -> 0.15 | E28: =+E19 -> Churn | F28: =+R19 -> 4634.3794 | G28: =+$C28*G26 -> 4863.5056 | H28: =+$C28*H26 -> 5130.3559 | I28: =+$C28*I26 -> 5434.8951 | J28: =+$C28*J26 -> 5777.5316 | K28: =+$C28*K26 -> 6159.0853 | L28: =+$C28*L26 -> 6580.7631 | M28: =+$C28*M26 -> 7044.14 | N28: =+$C28*N26 -> 7551.1472 | ... R28: =+$C28*R26 -> 10066.289 | S28: =+SUM(G28:R28) -> 84775.781 | T28: =+AVERAGE(G28:R28) -> 7064.6484
E29: =+E20 -> Active units EoP | F29: =+R20 -> 32423.37 | G29: =+G26+G27-G28 -> 34202.373 | H29: =+H26+H27-H28 -> 36232.634 | I29: =+I26+I27-I28 -> 38516.877 | J29: =+J26+J27-J28 -> 41060.569 | K29: =+K26+K27-K28 -> 43871.754 | L29: =+L26+L27-L28 -> 46960.933 | M29: =+M26+M27-M28 -> 50340.981 | N29: =+N26+N27-N28 -> 54027.099 | ... S29: =+S26+S27-S28 -> 72217.49 | T29: =+AVERAGE(G29:R29) -> 50413.833
E31: Average active units | F31: =AVERAGE(F26,F29) -> 31659.616 | G31: =AVERAGE(G26,G29) -> 33312.872 | H31: =AVERAGE(H26,H29) -> 35217.504 | I31: =AVERAGE(I26,I29) -> 37374.756 | J31: =AVERAGE(J26,J29) -> 39788.723 | K31: =AVERAGE(K26,K29) -> 42466.161 | L31: =AVERAGE(L26,L29) -> 45416.343 | M31: =AVERAGE(M26,M29) -> 48650.957 | ... R31: =AVERAGE(R26,R29) -> 69663.041 | S31: =+AVERAGE(G31:R31) -> 48755.744 | T31: =+AVERAGE(G31:R31) -> 48755.744
B33: Assumption: constant monthly growth rate within each calendar year
